BEGIN:VCALENDAR
VERSION:2.0
PRODID:-//Connecting Research - ECPv6.0.5//NONSGML v1.0//EN
CALSCALE:GREGORIAN
METHOD:PUBLISH
X-ORIGINAL-URL:https://research.reading.ac.uk/research-blog
X-WR-CALDESC:Events for Connecting Research
REFRESH-INTERVAL;VALUE=DURATION:PT1H
X-Robots-Tag:noindex
X-PUBLISHED-TTL:PT1H
BEGIN:VTIMEZONE
TZID:Europe/London
BEGIN:DAYLIGHT
TZOFFSETFROM:+0000
TZOFFSETTO:+0100
TZNAME:BST
DTSTART:20240331T010000
END:DAYLIGHT
BEGIN:STANDARD
TZOFFSETFROM:+0100
TZOFFSETTO:+0000
TZNAME:GMT
DTSTART:20241027T010000
END:STANDARD
END:VTIMEZONE
BEGIN:VEVENT
DTSTART;TZID=Europe/London:20241105T110000
DTEND;TZID=Europe/London:20241105T140000
DTSTAMP:20260423T060330
CREATED:20241023T152835Z
LAST-MODIFIED:20241023T154150Z
UID:30336-1730804400-1730815200@research.reading.ac.uk
SUMMARY:Caring in migrant families: Key messages and film screening
DESCRIPTION:[vc_row][vc_column width=”1/2″][vc_single_image image=”30342″ img_size=”medium”][/vc_column][vc_column width=”1/2″][vc_column_text]Please join us for this event to hear about the key messages from our project on Care\, Inequalities and Wellbeing among Transnational Families in the UK\, Spain\, France and Sweden. \nLunch and refreshments will be provided. Families with children are welcome.[/vc_column_text][/vc_column][/vc_row][vc_row][vc_column][vc_column_text]We will share the key messages from our research and launch the final report and recommendations. We will also show short films about the experiences of families involved in the research and the changes they want to see. The films were co-produced with family participants and Rank and File theatre.\nThemes include: \n\nlanguage barriers in accessing healthcare\nyoung caregiving and language brokering in transnational families\nchallenges of accessing English for Speakers of Other Language courses\nbarriers to family visits and family reunification.\n\nThere will be an opportunity to ask questions and discuss the project with team members from the University of Reading\, partner organisations and community researchers. \nEveryone is welcome\, just turn up – there is no need to register for this event. \nIf you have any access or dietary requirements\, or questions about the event\, please do not hesitate to contact Ruth Evans by email (r.evans@reading.ac.uk) or by phone 0118 378 7755 \nFor more information about the project please visit Transnational Families in Europe[/vc_column_text][/vc_column][/vc_row][vc_row][vc_column][/vc_column][/vc_row]
URL:https://research.reading.ac.uk/research-blog/event/caring-in-migrant-families-key-messages-and-film-screening/
LOCATION:Reading International Solidarity Centre\, Reading\, 35-39 London Street\, Reading\, RG1 4PS\, United Kingdom
CATEGORIES:Prosperity & Resilience
ORGANIZER;CN="Dr%20Ruth%20Evans%2C%20Global%20Development":MAILTO:r.evans@reading.ac.uk
END:VEVENT
END:VCALENDAR