BEGIN:VCALENDAR
VERSION:2.0
PRODID:-//Connecting Research - ECPv6.0.5//NONSGML v1.0//EN
CALSCALE:GREGORIAN
METHOD:PUBLISH
X-ORIGINAL-URL:https://research.reading.ac.uk/research-blog
X-WR-CALDESC:Events for Connecting Research
REFRESH-INTERVAL;VALUE=DURATION:PT1H
X-Robots-Tag:noindex
X-PUBLISHED-TTL:PT1H
BEGIN:VTIMEZONE
TZID:Europe/London
BEGIN:DAYLIGHT
TZOFFSETFROM:+0000
TZOFFSETTO:+0100
TZNAME:BST
DTSTART:20230326T010000
END:DAYLIGHT
BEGIN:STANDARD
TZOFFSETFROM:+0100
TZOFFSETTO:+0000
TZNAME:GMT
DTSTART:20231029T010000
END:STANDARD
END:VTIMEZONE
BEGIN:VEVENT
DTSTART;TZID=Europe/London:20230929T100000
DTEND;TZID=Europe/London:20230929T160000
DTSTAMP:20260424T211958
CREATED:20230822T160511Z
LAST-MODIFIED:20230822T160606Z
UID:28086-1695981600-1696003200@research.reading.ac.uk
SUMMARY:Life Cycle Assessment of Transportation
DESCRIPTION:You are cordially invited to a dynamic and insightful workshop on “Life Cycle Assessment as a Circular Economy Solution to Transport.” This engaging event\, organized in collaboration with University of Reading\, Northampton Council\, University College London\, University of Portsmouth\, and the BarcelonaTech (UPC)\, aims to bring together industries\, public organizations\, and academics to collectively discuss and explore the innovative potential of Life Cycle Assessment (LCA) in promoting circular economy practices within the transport sector. \nDuring this workshop\, we aim to: \n\nGain comprehensive insights into the current and ideal practices of LCA in road transport.\nFacilitate meaningful discussions and knowledge exchange among industry professionals\, academics\, and public organizations.\nIdentify innovative approaches and solutions to foster circular economy principles in the transport sector.\nFocus on the missing links in LCA carbon accounting\, with particular emphasis on consumer behaviour and its impact on carbon emissions.\nAddress the significance of waste management in the context of LCA\, exploring strategies for reducing environmental impact throughout the product lifecycle.\n\nThe workshop will feature: \n\nKeynote presentations from industry experts and academics\nPanel discussions with Q&A sessions\nInteractive workshops and group activities\nNetworking opportunities to connect with like-minded individuals.\n\nThis workshop is designed for professionals and stakeholders involved in: \n\nLife cycle Assessment\nTransportation and logistics\nSustainability and environmental management\nCircular economy initiatives\nResearch and academia\n\nRegister for free here. \nFor any inquiries or further information\, please reach out to: \nEmail: n.darvish@reading.ac.uk \nPhone: 07952930092 \nWe look forward to welcoming you to this transformative LCA workshop on September 29th at the Blandfords\, Park House\, University of Reading\, RG6 6UR. Free parking will be available at the University Campus. \nLet’s shape a sustainable future for the transport industry together!
URL:https://research.reading.ac.uk/research-blog/event/life-cycle-assessment-of-transportation/
LOCATION:Blandford’s\, Park House\, University of Reading\, Reading\, RG6 6EF\, United Kingdom
CATEGORIES:Environment
ATTACH;FMTTYPE=image/png:https://research.reading.ac.uk/research-blog/wp-content/uploads/sites/72/2023/08/https___cdn.evbuc_.com_images_563991539_152490451066_1_original.png
END:VEVENT
END:VCALENDAR