BEGIN:VCALENDAR
VERSION:2.0
PRODID:-//SCENARIO - ECPv6.0.5//NONSGML v1.0//EN
CALSCALE:GREGORIAN
METHOD:PUBLISH
X-WR-CALNAME:SCENARIO
X-ORIGINAL-URL:https://research.reading.ac.uk/scenario
X-WR-CALDESC:Events for SCENARIO
REFRESH-INTERVAL;VALUE=DURATION:PT1H
X-Robots-Tag:noindex
X-PUBLISHED-TTL:PT1H
BEGIN:VTIMEZONE
TZID:Europe/London
BEGIN:DAYLIGHT
TZOFFSETFROM:+0000
TZOFFSETTO:+0100
TZNAME:BST
DTSTART:20240331T010000
END:DAYLIGHT
BEGIN:STANDARD
TZOFFSETFROM:+0100
TZOFFSETTO:+0000
TZNAME:GMT
DTSTART:20241027T010000
END:STANDARD
END:VTIMEZONE
BEGIN:VEVENT
DTSTART;VALUE=DATE:20240510
DTEND;VALUE=DATE:20240511
DTSTAMP:20260421T202913
CREATED:20240501T112644Z
LAST-MODIFIED:20240501T112644Z
UID:3252-1715299200-1715385599@research.reading.ac.uk
SUMMARY:National Staff Networks Day
DESCRIPTION:
URL:https://research.reading.ac.uk/scenario/event/national-staff-networks-day/
CATEGORIES:EDI
END:VEVENT
BEGIN:VEVENT
DTSTART;VALUE=DATE:20240507
DTEND;VALUE=DATE:20240508
DTSTAMP:20260421T202913
CREATED:20240501T112531Z
LAST-MODIFIED:20240501T112531Z
UID:3250-1715040000-1715126399@research.reading.ac.uk
SUMMARY:International Family Equality Day
DESCRIPTION:
URL:https://research.reading.ac.uk/scenario/event/international-family-equality-day/
CATEGORIES:EDI
END:VEVENT
BEGIN:VEVENT
DTSTART;VALUE=DATE:20240501
DTEND;VALUE=DATE:20240601
DTSTAMP:20260421T202913
CREATED:20240501T105104Z
LAST-MODIFIED:20240501T112606Z
UID:3242-1714521600-1717199999@research.reading.ac.uk
SUMMARY:Mental Health Awareness Month
DESCRIPTION:
URL:https://research.reading.ac.uk/scenario/event/mental-health-awareness-month/
CATEGORIES:EDI
END:VEVENT
BEGIN:VEVENT
DTSTART;VALUE=DATE:20240501
DTEND;VALUE=DATE:20240508
DTSTAMP:20260421T202913
CREATED:20240501T112307Z
LAST-MODIFIED:20240501T112411Z
UID:2430-1714521600-1715126399@research.reading.ac.uk
SUMMARY:Deaf Awareness Week
DESCRIPTION:[ics_calendar url=”https://research.reading.ac.uk/scenario/” view=”month”]
URL:https://research.reading.ac.uk/scenario/event/edi-event/
CATEGORIES:EDI
END:VEVENT
END:VCALENDAR