BEGIN:VCALENDAR
VERSION:2.0
PRODID:-//TypoArabic - ECPv6.0.5//NONSGML v1.0//EN
CALSCALE:GREGORIAN
METHOD:PUBLISH
X-ORIGINAL-URL:https://research.reading.ac.uk/typoarabic
X-WR-CALDESC:Events for TypoArabic
REFRESH-INTERVAL;VALUE=DURATION:PT1H
X-Robots-Tag:noindex
X-PUBLISHED-TTL:PT1H
BEGIN:VTIMEZONE
TZID:Europe/Istanbul
BEGIN:STANDARD
TZOFFSETFROM:+0300
TZOFFSETTO:+0300
TZNAME:+03
DTSTART:20220101T000000
END:STANDARD
TZID:Europe/London
BEGIN:DAYLIGHT
TZOFFSETFROM:+0000
TZOFFSETTO:+0100
TZNAME:BST
DTSTART:20200329T010000
END:DAYLIGHT
BEGIN:STANDARD
TZOFFSETFROM:+0100
TZOFFSETTO:+0000
TZNAME:GMT
DTSTART:20201025T010000
END:STANDARD
BEGIN:DAYLIGHT
TZOFFSETFROM:+0000
TZOFFSETTO:+0100
TZNAME:BST
DTSTART:20210328T010000
END:DAYLIGHT
BEGIN:STANDARD
TZOFFSETFROM:+0100
TZOFFSETTO:+0000
TZNAME:GMT
DTSTART:20211031T010000
END:STANDARD
TZID:Asia/Tokyo
BEGIN:STANDARD
TZOFFSETFROM:+0900
TZOFFSETTO:+0900
TZNAME:JST
DTSTART:20190101T000000
END:STANDARD
TZID:Europe/Berlin
BEGIN:DAYLIGHT
TZOFFSETFROM:+0100
TZOFFSETTO:+0200
TZNAME:CEST
DTSTART:20190331T010000
END:DAYLIGHT
BEGIN:STANDARD
TZOFFSETFROM:+0200
TZOFFSETTO:+0100
TZNAME:CET
DTSTART:20191027T010000
END:STANDARD
END:VTIMEZONE
BEGIN:VEVENT
DTSTART;TZID=Europe/Istanbul:20221105T100000
DTEND;TZID=Europe/Istanbul:20221105T180000
DTSTAMP:20260419T171311
CREATED:20220809T072447Z
LAST-MODIFIED:20220809T072447Z
UID:713-1667642400-1667671200@research.reading.ac.uk
SUMMARY:Muqaddima: book launch of Arabic Typography: History and Practice
DESCRIPTION:Muqaddima\, or muqeddeme in Ottoman Turkish\, means introduction\, and this one-day conference introduces the new book on Arabic typography: History and Practice. Hosted at the Sakıp Sabancı Museum and facilitated by the Sabancı University\, this event reflects the volume’s approach\, bringing historical research and contemporary design to the same table. Speakers include leading authorities in Ottoman typography and calligraphy and the book’s authors\, weaving together perspectives from design\, research\, and interdisciplinary practices.
URL:https://research.reading.ac.uk/typoarabic/event/muqaddima-book-launch-of-arabic-typography-history-and-practice/
END:VEVENT
BEGIN:VEVENT
DTSTART;TZID=Europe/London:20210226T160000
DTEND;TZID=Europe/London:20210226T190000
DTSTAMP:20260419T171311
CREATED:20210225T094015Z
LAST-MODIFIED:20210225T094015Z
UID:686-1614355200-1614366000@research.reading.ac.uk
SUMMARY:Type Tech Meetup
DESCRIPTION:Titus is going to present some findings of his historical research in a venue that brings together designers and developers. TTM is designed to bridge the gap between research\, design\, and technical implementation\, and provides an ideal discussion forum for TypoArabic\, as the conference description makes clear: \nTypeTech MeetUp has been created to fill a gap: it needed a place where font engineers and designers\, web designers and developers\, industry experts and tech & business professionals can exchange ideas on technical topics and develop a better designed future together. \nThe TypeTech MeetUp is a forum to jointly develop\, discuss and document the current state of font technology as well as create a platform for the exchange of best practices\, to advance the state of the art and to promote the integration of font technologies into the future of digital communication. \nThe event previously conceived as in-person conference in Munich is shifting online with 4 short sessions spread over 10 months\, starting on the 20th November. Organized by GRANSHAN together with a lot of partners and sponsors. \nFour themes\, four sessions! Join us for TypeTech MeetUp online!
URL:https://research.reading.ac.uk/typoarabic/event/type-tech-meetup/
LOCATION:Munich\, Munich\, Germany
END:VEVENT
BEGIN:VEVENT
DTSTART;VALUE=DATE:20200313
DTEND;VALUE=DATE:20200315
DTSTAMP:20260419T171311
CREATED:20191219T140158Z
LAST-MODIFIED:20191219T140158Z
UID:613-1584057600-1584230399@research.reading.ac.uk
SUMMARY:TypoTech Munich
DESCRIPTION:TypeTech Munich is the meeting point for font engineers/practitioners\, web designers/developers\, industry experts & tech/business professionals to gather\, exchange and discuss. Program and speakers will be announced soon.
URL:https://research.reading.ac.uk/typoarabic/event/typotech-munich/
END:VEVENT
BEGIN:VEVENT
DTSTART;VALUE=DATE:20190903
DTEND;VALUE=DATE:20190908
DTSTAMP:20260419T171311
CREATED:20190910T112052Z
LAST-MODIFIED:20190910T112917Z
UID:261-1567468800-1567900799@research.reading.ac.uk
SUMMARY:63rd annual ATypI conference\, Tokyo\, Japan
DESCRIPTION:
URL:https://research.reading.ac.uk/typoarabic/event/63rd-annual-atypi-conference-tokyo-japan/
END:VEVENT
BEGIN:VEVENT
DTSTART;VALUE=DATE:20190613
DTEND;VALUE=DATE:20190616
DTSTAMP:20260419T171311
CREATED:20190910T112552Z
LAST-MODIFIED:20190910T113000Z
UID:264-1560384000-1560643199@research.reading.ac.uk
SUMMARY:There and back again: the complicated relationship between manuscript and print in the Islamic Tradition
DESCRIPTION:
URL:https://research.reading.ac.uk/typoarabic/event/there-and-back-again-the-complicated-relationship-between-manuscript-and-print-in-the-islamic-tradition/
END:VEVENT
END:VCALENDAR