BEGIN:VCALENDAR
VERSION:2.0
PRODID:-//TypoArabic - ECPv6.0.5//NONSGML v1.0//EN
CALSCALE:GREGORIAN
METHOD:PUBLISH
X-ORIGINAL-URL:https://research.reading.ac.uk/typoarabic
X-WR-CALDESC:Events for TypoArabic
REFRESH-INTERVAL;VALUE=DURATION:PT1H
X-Robots-Tag:noindex
X-PUBLISHED-TTL:PT1H
BEGIN:VTIMEZONE
TZID:Europe/Istanbul
BEGIN:STANDARD
TZOFFSETFROM:+0300
TZOFFSETTO:+0300
TZNAME:+03
DTSTART:20220101T000000
END:STANDARD
END:VTIMEZONE
BEGIN:VEVENT
DTSTART;TZID=Europe/Istanbul:20221105T100000
DTEND;TZID=Europe/Istanbul:20221105T180000
DTSTAMP:20260423T053712
CREATED:20220809T072447Z
LAST-MODIFIED:20220809T072447Z
UID:713-1667642400-1667671200@research.reading.ac.uk
SUMMARY:Muqaddima: book launch of Arabic Typography: History and Practice
DESCRIPTION:Muqaddima\, or muqeddeme in Ottoman Turkish\, means introduction\, and this one-day conference introduces the new book on Arabic typography: History and Practice. Hosted at the Sakıp Sabancı Museum and facilitated by the Sabancı University\, this event reflects the volume’s approach\, bringing historical research and contemporary design to the same table. Speakers include leading authorities in Ottoman typography and calligraphy and the book’s authors\, weaving together perspectives from design\, research\, and interdisciplinary practices.
URL:https://research.reading.ac.uk/typoarabic/event/muqaddima-book-launch-of-arabic-typography-history-and-practice/
END:VEVENT
END:VCALENDAR