BEGIN:VCALENDAR
VERSION:2.0
PRODID:-//Between Voice and Silence - ECPv6.0.5//NONSGML v1.0//EN
CALSCALE:GREGORIAN
METHOD:PUBLISH
X-ORIGINAL-URL:https://research.reading.ac.uk/voice-silence
X-WR-CALDESC:Events for Between Voice and Silence
REFRESH-INTERVAL;VALUE=DURATION:PT1H
X-Robots-Tag:noindex
X-PUBLISHED-TTL:PT1H
BEGIN:VTIMEZONE
TZID:Europe/London
BEGIN:DAYLIGHT
TZOFFSETFROM:+0000
TZOFFSETTO:+0100
TZNAME:BST
DTSTART:20250330T010000
END:DAYLIGHT
BEGIN:STANDARD
TZOFFSETFROM:+0100
TZOFFSETTO:+0000
TZNAME:GMT
DTSTART:20251026T010000
END:STANDARD
END:VTIMEZONE
BEGIN:VEVENT
DTSTART;VALUE=DATE:20250304
DTEND;VALUE=DATE:20250305
DTSTAMP:20260421T140009
CREATED:20250221T153455Z
LAST-MODIFIED:20250221T153455Z
UID:307-1741046400-1741132799@research.reading.ac.uk
SUMMARY:Metapragmatik: Wenn Sprachgebrauch zum Thema wird
DESCRIPTION:Jahrestagung 2025 der Arbeitsgemeinschaft linguistische Pragmatik
URL:https://research.reading.ac.uk/voice-silence/event/metapragmatik-wenn-sprachgebrauch-zum-thema-wird/
END:VEVENT
END:VCALENDAR