BEGIN:VCALENDAR
VERSION:2.0
PRODID:-//Between Voice and Silence - ECPv6.0.5//NONSGML v1.0//EN
CALSCALE:GREGORIAN
METHOD:PUBLISH
X-ORIGINAL-URL:https://research.reading.ac.uk/voice-silence
X-WR-CALDESC:Events for Between Voice and Silence
REFRESH-INTERVAL;VALUE=DURATION:PT1H
X-Robots-Tag:noindex
X-PUBLISHED-TTL:PT1H
BEGIN:VTIMEZONE
TZID:Europe/London
BEGIN:DAYLIGHT
TZOFFSETFROM:+0000
TZOFFSETTO:+0100
TZNAME:BST
DTSTART:20250330T010000
END:DAYLIGHT
BEGIN:STANDARD
TZOFFSETFROM:+0100
TZOFFSETTO:+0000
TZNAME:GMT
DTSTART:20251026T010000
END:STANDARD
END:VTIMEZONE
BEGIN:VEVENT
DTSTART;TZID=Europe/London:20250521T080000
DTEND;TZID=Europe/London:20250523T170000
DTSTAMP:20260421T034359
CREATED:20250221T153937Z
LAST-MODIFIED:20250221T153937Z
UID:312-1747814400-1748019600@research.reading.ac.uk
SUMMARY:Historical Sociolinguistics Network
DESCRIPTION:Annual conference of the Historical Sociolinguistics Network
URL:https://research.reading.ac.uk/voice-silence/event/historical-sociolinguistics-network/
END:VEVENT
END:VCALENDAR