BEGIN:VCALENDAR
VERSION:2.0
PRODID:-//Between Voice and Silence - ECPv6.0.5//NONSGML v1.0//EN
CALSCALE:GREGORIAN
METHOD:PUBLISH
X-ORIGINAL-URL:https://research.reading.ac.uk/voice-silence
X-WR-CALDESC:Events for Between Voice and Silence
REFRESH-INTERVAL;VALUE=DURATION:PT1H
X-Robots-Tag:noindex
X-PUBLISHED-TTL:PT1H
BEGIN:VTIMEZONE
TZID:Europe/London
BEGIN:DAYLIGHT
TZOFFSETFROM:+0000
TZOFFSETTO:+0100
TZNAME:BST
DTSTART:20250330T010000
END:DAYLIGHT
BEGIN:STANDARD
TZOFFSETFROM:+0100
TZOFFSETTO:+0000
TZNAME:GMT
DTSTART:20251026T010000
END:STANDARD
END:VTIMEZONE
BEGIN:VEVENT
DTSTART;TZID=Europe/London:20250424T080000
DTEND;TZID=Europe/London:20250426T170000
DTSTAMP:20260421T051919
CREATED:20250221T153721Z
LAST-MODIFIED:20250221T153721Z
UID:310-1745481600-1745686800@research.reading.ac.uk
SUMMARY:Egodocuments from Medieval Codex to Modern Media: Narratives\, Presentations\, Identities.
DESCRIPTION:
URL:https://research.reading.ac.uk/voice-silence/event/egodocuments-from-medieval-codex-to-modern-media-narratives-presentations-identities/
END:VEVENT
END:VCALENDAR